BEGIN:VCALENDAR
VERSION:2.0
PRODID:-//jEvents 2.0 for Joomla//EN
CALSCALE:GREGORIAN
METHOD:PUBLISH
BEGIN:VTIMEZONE
TZID:Australia/Sydney
BEGIN:STANDARD
DTSTART:20250613T000000
RDATE:20251005T030000
TZOFFSETFROM:+1100
TZOFFSETTO:+1000
TZNAME:Australia/Sydney AEST
END:STANDARD
BEGIN:STANDARD
DTSTART:20260405T020000
RDATE:20261004T030000
TZOFFSETFROM:+1100
TZOFFSETTO:+1000
TZNAME:Australia/Sydney AEST
END:STANDARD
BEGIN:STANDARD
DTSTART:20270404T020000
RDATE:20271003T030000
TZOFFSETFROM:+1100
TZOFFSETTO:+1000
TZNAME:Australia/Sydney AEST
END:STANDARD
BEGIN:STANDARD
DTSTART:20280402T020000
RDATE:20281001T030000
TZOFFSETFROM:+1100
TZOFFSETTO:+1000
TZNAME:Australia/Sydney AEST
END:STANDARD
BEGIN:DAYLIGHT
DTSTART:20251005T030000
RDATE:20260405T020000
TZOFFSETFROM:+1000
TZOFFSETTO:+1100
TZNAME:Australia/Sydney AEDT
END:DAYLIGHT
BEGIN:DAYLIGHT
DTSTART:20261004T030000
RDATE:20270404T020000
TZOFFSETFROM:+1000
TZOFFSETTO:+1100
TZNAME:Australia/Sydney AEDT
END:DAYLIGHT
BEGIN:DAYLIGHT
DTSTART:20271003T030000
RDATE:20280402T020000
TZOFFSETFROM:+1000
TZOFFSETTO:+1100
TZNAME:Australia/Sydney AEDT
END:DAYLIGHT
BEGIN:DAYLIGHT
DTSTART:20281001T030000
RDATE:20290401T020000
TZOFFSETFROM:+1000
TZOFFSETTO:+1100
TZNAME:Australia/Sydney AEDT
END:DAYLIGHT
END:VTIMEZONE
BEGIN:VEVENT
UID:6ea121686877ac913984713163d3f34b
CATEGORIES:NSW
CREATED:20251222T212415
SUMMARY:NSW Paddy Pallin
URL;VALUE=URI:https://mail.act.rogaine.asn.au/event-details/eventdetail/226/-/nsw-paddy-p
 allin.html?tmpl=component
DESCRIPTION: This event was imported from: https://mail.act.rogaine.asn.au/event-detail
 s/eventdetail/226/-/nsw-paddy-pallin.html?tmpl=component (https://mail.act.
 rogaine.asn.au/event-details/eventdetail/226/-/nsw-paddy-pallin.html?tmpl=c
 omponent)

X-ALT-DESC;FMTTYPE=text/html: <a href="https://mail.act.rogaine.asn.au/event-details/eventdetail/226/-/n
 sw-paddy-pallin.html?tmpl=component">This event was imported from: https://
 mail.act.rogaine.asn.au/event-details/eventdetail/226/-/nsw-paddy-pallin.ht
 ml?tmpl=component</a>DTSTAMP:20260420T082448
DTSTART;TZID=Australia/Sydney;VALUE=DATE:20260614
DTEND;TZID=Australia/Sydney;VALUE=DATE:20260615
SEQUENCE:0
TRANSP:OPAQUE
END:VEVENT
END:VCALENDAR