BEGIN:VCALENDAR
VERSION:2.0
PRODID:-//jEvents 2.0 for Joomla//EN
CALSCALE:GREGORIAN
METHOD:PUBLISH
BEGIN:VTIMEZONE
TZID:Australia/Sydney
BEGIN:STANDARD
DTSTART:20250724T120000
RDATE:20251005T030000
TZOFFSETFROM:+1100
TZOFFSETTO:+1000
TZNAME:Australia/Sydney AEST
END:STANDARD
BEGIN:STANDARD
DTSTART:20260405T020000
RDATE:20261004T030000
TZOFFSETFROM:+1100
TZOFFSETTO:+1000
TZNAME:Australia/Sydney AEST
END:STANDARD
BEGIN:STANDARD
DTSTART:20270404T020000
RDATE:20271003T030000
TZOFFSETFROM:+1100
TZOFFSETTO:+1000
TZNAME:Australia/Sydney AEST
END:STANDARD
BEGIN:STANDARD
DTSTART:20280402T020000
RDATE:20281001T030000
TZOFFSETFROM:+1100
TZOFFSETTO:+1000
TZNAME:Australia/Sydney AEST
END:STANDARD
BEGIN:DAYLIGHT
DTSTART:20251005T030000
RDATE:20260405T020000
TZOFFSETFROM:+1000
TZOFFSETTO:+1100
TZNAME:Australia/Sydney AEDT
END:DAYLIGHT
BEGIN:DAYLIGHT
DTSTART:20261004T030000
RDATE:20270404T020000
TZOFFSETFROM:+1000
TZOFFSETTO:+1100
TZNAME:Australia/Sydney AEDT
END:DAYLIGHT
BEGIN:DAYLIGHT
DTSTART:20271003T030000
RDATE:20280402T020000
TZOFFSETFROM:+1000
TZOFFSETTO:+1100
TZNAME:Australia/Sydney AEDT
END:DAYLIGHT
BEGIN:DAYLIGHT
DTSTART:20281001T030000
RDATE:20290401T020000
TZOFFSETFROM:+1000
TZOFFSETTO:+1100
TZNAME:Australia/Sydney AEDT
END:DAYLIGHT
END:VTIMEZONE
BEGIN:VEVENT
UID:5315536a56aaa3cdd18a029e1c778f9c
CATEGORIES:NSW
CREATED:20251222T212322
SUMMARY:NSW Championship 24 and 8 Hour
URL;VALUE=URI:https://mail.act.rogaine.asn.au/event-details/eventdetail/225/-/nsw-champio
 nship-24-and-8-hour.html?tmpl=component
DESCRIPTION: <a href="https://mail.act.rogaine.asn.au/event-details/eventdetail/225/-/n
 sw-championship-24-and-8-hour.html?tmpl=component">This event was imported 
 from: https://mail.act.rogaine.asn.au/event-details/eventdetail/225/-/nsw-c
 hampionship-24-and-8-hour.html?tmpl=component</a>DTSTAMP:20260421T003307
DTSTART;TZID=Australia/Sydney:20260725T120000
DTEND;TZID=Australia/Sydney:20260726T120000
SEQUENCE:0
TRANSP:OPAQUE
END:VEVENT
END:VCALENDAR